BEGIN:VCALENDAR
VERSION:2.0
PRODID:-//Operation Prom National Network - ECPv6.15.20//NONSGML v1.0//EN
CALSCALE:GREGORIAN
METHOD:PUBLISH
X-ORIGINAL-URL:https://promnationalnetwork.org
X-WR-CALDESC:Events for Operation Prom National Network
REFRESH-INTERVAL;VALUE=DURATION:PT1H
X-Robots-Tag:noindex
X-PUBLISHED-TTL:PT1H
BEGIN:VTIMEZONE
TZID:UTC
BEGIN:STANDARD
TZOFFSETFROM:+0000
TZOFFSETTO:+0000
TZNAME:UTC
DTSTART:20240101T000000
END:STANDARD
END:VTIMEZONE
BEGIN:VEVENT
DTSTART;TZID=UTC:20250323T100000
DTEND;TZID=UTC:20250323T140000
DTSTAMP:20260425T214643
CREATED:20250301T155410Z
LAST-MODIFIED:20250301T160513Z
UID:1855-1742724000-1742738400@promnationalnetwork.org
SUMMARY:Prom Dress Giveaway (Hartford\, CT)
DESCRIPTION:
URL:https://promnationalnetwork.org/event/prom-dress-giveaway-hartford-ct/
LOCATION:Hartford City Hall\, 550 Main Street\, Hartford\, CT\, United States
END:VEVENT
END:VCALENDAR