BEGIN:VCALENDAR
VERSION:2.0
PRODID:-//Operation Prom National Network - ECPv6.15.20//NONSGML v1.0//EN
CALSCALE:GREGORIAN
METHOD:PUBLISH
X-WR-CALNAME:Operation Prom National Network
X-ORIGINAL-URL:https://promnationalnetwork.org
X-WR-CALDESC:Events for Operation Prom National Network
REFRESH-INTERVAL;VALUE=DURATION:PT1H
X-Robots-Tag:noindex
X-PUBLISHED-TTL:PT1H
BEGIN:VTIMEZONE
TZID:UTC
BEGIN:STANDARD
TZOFFSETFROM:+0000
TZOFFSETTO:+0000
TZNAME:UTC
DTSTART:20240101T000000
END:STANDARD
END:VTIMEZONE
BEGIN:VEVENT
DTSTART;TZID=UTC:20250413T100000
DTEND;TZID=UTC:20250413T150000
DTSTAMP:20260425T205522
CREATED:20250224T190618Z
LAST-MODIFIED:20250224T190618Z
UID:1842-1744538400-1744556400@promnationalnetwork.org
SUMMARY:Dominican Sunday's Prom Clothing Giveaway (Manhattan\, New York)
DESCRIPTION:
URL:https://promnationalnetwork.org/event/dominican-sundays-prom-clothing-giveaway-manhattan-new-york-2/
LOCATION:Alianza Dominican Cultural Center\, 145 West 108th Street\, New York\, NY\, 10025\, United States
END:VEVENT
END:VCALENDAR