BEGIN:VCALENDAR
VERSION:2.0
PRODID:-//Operation Prom National Network - ECPv6.15.20//NONSGML v1.0//EN
CALSCALE:GREGORIAN
METHOD:PUBLISH
X-ORIGINAL-URL:https://promnationalnetwork.org
X-WR-CALDESC:Events for Operation Prom National Network
REFRESH-INTERVAL;VALUE=DURATION:PT1H
X-Robots-Tag:noindex
X-PUBLISHED-TTL:PT1H
BEGIN:VTIMEZONE
TZID:UTC
BEGIN:STANDARD
TZOFFSETFROM:+0000
TZOFFSETTO:+0000
TZNAME:UTC
DTSTART:20240101T000000
END:STANDARD
END:VTIMEZONE
BEGIN:VEVENT
DTSTART;TZID=UTC:20250426T110000
DTEND;TZID=UTC:20250427T170000
DTSTAMP:20260425T205533
CREATED:20250406T150515Z
LAST-MODIFIED:20250406T150804Z
UID:1927-1745665200-1745773200@promnationalnetwork.org
SUMMARY:Community Center of Northern Westchester (Bedford Hills\, NY)
DESCRIPTION:Our Prom Pop-Up will be open Saturday\, April 26th from 11am to 5pm\, Sunday\, April 27th from 11am to 5pm\, and Monday\, April 28th from 2pm to 6pm. Students are invited to come in and shop for their Senior Prom outfits – all free of charge! Students can choose from a huge assortment of new and gently used formalwear in excellent condition\, including long dresses\, tuxedos\, shoes\, ties\, bags\, and jewelry! No appointment is needed\, but students will need to bring their High School ID cards. \nThe Prom Pop-Up will be located at 669 Bedford Road\, Bedford Hills\, NY 10507 \nCCNW Prom Pop-Up_2025
URL:https://promnationalnetwork.org/event/community-center-of-northern-westchester-bedford-hills-ny/
LOCATION:Community Center of Northern Westchester\, 669 Bedford Road\, Bedford Hills\, NY\, 10507\, United States
END:VEVENT
END:VCALENDAR