BEGIN:VCALENDAR
VERSION:2.0
PRODID:-//Operation Prom National Network - ECPv6.15.20//NONSGML v1.0//EN
CALSCALE:GREGORIAN
METHOD:PUBLISH
X-WR-CALNAME:Operation Prom National Network
X-ORIGINAL-URL:https://promnationalnetwork.org
X-WR-CALDESC:Events for Operation Prom National Network
REFRESH-INTERVAL;VALUE=DURATION:PT1H
X-Robots-Tag:noindex
X-PUBLISHED-TTL:PT1H
BEGIN:VTIMEZONE
TZID:UTC
BEGIN:STANDARD
TZOFFSETFROM:+0000
TZOFFSETTO:+0000
TZNAME:UTC
DTSTART:20240101T000000
END:STANDARD
END:VTIMEZONE
BEGIN:VEVENT
DTSTART;TZID=UTC:20250502T130000
DTEND;TZID=UTC:20250502T170000
DTSTAMP:20260425T194137
CREATED:20250314T182606Z
LAST-MODIFIED:20250317T182221Z
UID:1882-1746190800-1746205200@promnationalnetwork.org
SUMMARY:Prom 914 Free Dresses & Tuxedos (White Plains\, NY)
DESCRIPTION:HS Seniors Only – must bring a valid HS ID or report card.\nPlease arrive between 1pm-5pm.\n\nPlease register here: https://forms.gle/V8jPSJqqmT7nk4m87\n  \n*Dresses and tuxedos will be available while supplies last.
URL:https://promnationalnetwork.org/event/prom-914-free-dresses-tuxedos-white-plains-ny/
LOCATION:Westchester County Center\, 198 Central Avenue\, White Plains\, NY\, 10606\, United States
END:VEVENT
END:VCALENDAR