BEGIN:VCALENDAR
VERSION:2.0
PRODID:-//Operation Prom National Network - ECPv6.15.20//NONSGML v1.0//EN
CALSCALE:GREGORIAN
METHOD:PUBLISH
X-ORIGINAL-URL:https://promnationalnetwork.org
X-WR-CALDESC:Events for Operation Prom National Network
REFRESH-INTERVAL;VALUE=DURATION:PT1H
X-Robots-Tag:noindex
X-PUBLISHED-TTL:PT1H
BEGIN:VTIMEZONE
TZID:UTC
BEGIN:STANDARD
TZOFFSETFROM:+0000
TZOFFSETTO:+0000
TZNAME:UTC
DTSTART:20240101T000000
END:STANDARD
END:VTIMEZONE
BEGIN:VEVENT
DTSTART;TZID=UTC:20250504T100000
DTEND;TZID=UTC:20250504T120000
DTSTAMP:20260425T194249
CREATED:20250317T182752Z
LAST-MODIFIED:20250317T182752Z
UID:1915-1746352800-1746360000@promnationalnetwork.org
SUMMARY:Prom 914 Free Dresses (White Plains\, NY)
DESCRIPTION:Prom dresses will be available for HS Seniors – must bring a valid HS ID or report card. \nPlease arrive between 10am-12pm. \nPlease register here: https://forms.gle/x4sySdCMqLLGzBWu5 \n*Due to inventory\, our 3rd day may be limited in sizes. Tuxedos will not be available. \nPlease check our Instagram @Prom914 for inventory updates! \n 
URL:https://promnationalnetwork.org/event/prom-914-free-dresses-white-plains-ny/
LOCATION:Westchester County Center\, 198 Central Avenue\, White Plains\, NY\, 10606\, United States
END:VEVENT
BEGIN:VEVENT
DTSTART;TZID=UTC:20250504T100000
DTEND;TZID=UTC:20250504T140000
DTSTAMP:20260425T194249
CREATED:20250224T190512Z
LAST-MODIFIED:20250411T164140Z
UID:1838-1746352800-1746367200@promnationalnetwork.org
SUMMARY:Dominican Sunday's Prom Clothing Giveaway (Manhattan\, New York)
DESCRIPTION:
URL:https://promnationalnetwork.org/event/dominican-sundays-prom-clothing-giveaway-manhattan-new-york/
LOCATION:Alianza Dominican Cultural Center\, 145 West 108th Street\, New York\, NY\, 10025\, United States
END:VEVENT
BEGIN:VEVENT
DTSTART;TZID=UTC:20250504T120000
DTEND;TZID=UTC:20250504T140000
DTSTAMP:20260425T194249
CREATED:20250317T183344Z
LAST-MODIFIED:20250317T183344Z
UID:1917-1746360000-1746367200@promnationalnetwork.org
SUMMARY:Prom 914's Annual Dress Sale - Westchester County Center (White Plains\, NY)
DESCRIPTION:Join us to clear out our inventory of dresses\, including: \n\nWedding Gowns\nBridesmaid Dresses\nFormal Gowns\nCocktail Attire\nFlower Girl Dresses\nShoes and accessories\n\nMany brand new items with tags\, many gently worn and in good condition. \n100% of the sales benefit Operation Prom. \nCash & carry. Credit card will be accepted on purchases of $150 or more. \n*While supplies last* \nQuestions? Contact 914@promnationalnetwork.org \n 
URL:https://promnationalnetwork.org/event/prom-914s-annual-dress-sale-westchester-county-center-white-plains-ny/
LOCATION:Westchester County Center\, 198 Central Avenue\, White Plains\, NY\, 10606\, United States
END:VEVENT
END:VCALENDAR