BEGIN:VCALENDAR
VERSION:2.0
PRODID:-//Operation Prom National Network - ECPv6.15.20//NONSGML v1.0//EN
CALSCALE:GREGORIAN
METHOD:PUBLISH
X-ORIGINAL-URL:https://promnationalnetwork.org
X-WR-CALDESC:Events for Operation Prom National Network
REFRESH-INTERVAL;VALUE=DURATION:PT1H
X-Robots-Tag:noindex
X-PUBLISHED-TTL:PT1H
BEGIN:VTIMEZONE
TZID:UTC
BEGIN:STANDARD
TZOFFSETFROM:+0000
TZOFFSETTO:+0000
TZNAME:UTC
DTSTART:20240101T000000
END:STANDARD
END:VTIMEZONE
BEGIN:VEVENT
DTSTART;TZID=UTC:20251109T110000
DTEND;TZID=UTC:20251109T140000
DTSTAMP:20260425T164151
CREATED:20251014T164358Z
LAST-MODIFIED:20251030T152614Z
UID:1966-1762686000-1762696800@promnationalnetwork.org
SUMMARY:Dress and Effect Showroom\, White Plains\, NY - Shop on 11/9/25
DESCRIPTION:Join us at the Dress and Effect Showroom on Sunday\, November 9th from 11am-2pm \nAll dresses just $25 & up \nBridal Gowns under $99 \nShort cocktail style dresses and women’s business wear just $25 each \nShoes $15 \nGirls costume and flower girls dresses starting at $18 \n100% of sales benefit Operation Prom – cash\, card & PayPal accepted.
URL:https://promnationalnetwork.org/event/dress-and-effect-shop-to-benefit-operation-prom/
LOCATION:Dress and Effect Showroom\, 55 Church Street\, White Plains\, NY\, 10601\, United States
END:VEVENT
END:VCALENDAR