BEGIN:VCALENDAR
VERSION:2.0
PRODID:-//Operation Prom National Network - ECPv6.15.20//NONSGML v1.0//EN
CALSCALE:GREGORIAN
METHOD:PUBLISH
X-ORIGINAL-URL:https://promnationalnetwork.org
X-WR-CALDESC:Events for Operation Prom National Network
REFRESH-INTERVAL;VALUE=DURATION:PT1H
X-Robots-Tag:noindex
X-PUBLISHED-TTL:PT1H
BEGIN:VTIMEZONE
TZID:UTC
BEGIN:STANDARD
TZOFFSETFROM:+0000
TZOFFSETTO:+0000
TZNAME:UTC
DTSTART:20250101T000000
END:STANDARD
END:VTIMEZONE
BEGIN:VEVENT
DTSTART;TZID=UTC:20260306T080000
DTEND;TZID=UTC:20260306T150000
DTSTAMP:20260425T115514
CREATED:20260131T234218Z
LAST-MODIFIED:20260131T234218Z
UID:2115-1772784000-1772809200@promnationalnetwork.org
SUMMARY:2026 Wallenpaupack 570OperationProm (Pennsylvania)
DESCRIPTION:The Wallenpaupack Area High School Prom Shopping Event will be on Friday\, March 6th from 8am-3pm for all current students. \nOn Saturday\, March 7th the event will be open to the public from 9am-4pm\, students must show a high school ID for entry. \nFor questions\, please contact ameliaporcelli@icloud.com or call 914-306-1699
URL:https://promnationalnetwork.org/event/2026-wallenpaupack-570operationprom-pennsylvania/
LOCATION:Wallenpaupack Area High School\, 2552 Route 6\, Hawley\, PA\, 18428
END:VEVENT
END:VCALENDAR