BEGIN:VCALENDAR
VERSION:2.0
PRODID:-//Operation Prom National Network - ECPv6.15.20//NONSGML v1.0//EN
CALSCALE:GREGORIAN
METHOD:PUBLISH
X-ORIGINAL-URL:https://promnationalnetwork.org
X-WR-CALDESC:Events for Operation Prom National Network
REFRESH-INTERVAL;VALUE=DURATION:PT1H
X-Robots-Tag:noindex
X-PUBLISHED-TTL:PT1H
BEGIN:VTIMEZONE
TZID:UTC
BEGIN:STANDARD
TZOFFSETFROM:+0000
TZOFFSETTO:+0000
TZNAME:UTC
DTSTART:20250101T000000
END:STANDARD
END:VTIMEZONE
BEGIN:VEVENT
DTSTART;VALUE=DATE:20260307
DTEND;VALUE=DATE:20260308
DTSTAMP:20260425T115515
CREATED:20260124T215250Z
LAST-MODIFIED:20260124T215354Z
UID:2108-1772841600-1772927999@promnationalnetwork.org
SUMMARY:2026 Prom Dress & Suit Giveaway (Louisiana)
DESCRIPTION:Please save the date for our Louisiana event and check back soon for registration information. \nSaturday\, March 7\, 2026
URL:https://promnationalnetwork.org/event/2026-prom-dress-suit-giveaway-louisiana/
LOCATION:NY
END:VEVENT
END:VCALENDAR