BEGIN:VCALENDAR
VERSION:2.0
PRODID:-//Operation Prom National Network - ECPv6.15.20//NONSGML v1.0//EN
CALSCALE:GREGORIAN
METHOD:PUBLISH
X-ORIGINAL-URL:https://promnationalnetwork.org
X-WR-CALDESC:Events for Operation Prom National Network
REFRESH-INTERVAL;VALUE=DURATION:PT1H
X-Robots-Tag:noindex
X-PUBLISHED-TTL:PT1H
BEGIN:VTIMEZONE
TZID:UTC
BEGIN:STANDARD
TZOFFSETFROM:+0000
TZOFFSETTO:+0000
TZNAME:UTC
DTSTART:20250101T000000
END:STANDARD
END:VTIMEZONE
BEGIN:VEVENT
DTSTART;TZID=UTC:20260315T120000
DTEND;TZID=UTC:20260316T160000
DTSTAMP:20260425T115546
CREATED:20260311T172314Z
LAST-MODIFIED:20260311T172314Z
UID:2201-1773576000-1773676800@promnationalnetwork.org
SUMMARY:2026 Brooklyn Prom's Giveaway (New York)
DESCRIPTION:Join the BKLYN Prom Project on Sunday\, March 15th – Register online at: https://www.eventbrite.com/e/brooklyn-prom-projects-14th-annual-promwear-giveaway-tickets-1983725887530?aff=oddtdtcreator
URL:https://promnationalnetwork.org/event/2026-brooklyn-proms-giveaway-new-york/
LOCATION:Barclays Center\, 620 Atlantic Avenue\, Brooklyn\, NY\, 11217
END:VEVENT
END:VCALENDAR