BEGIN:VCALENDAR
VERSION:2.0
PRODID:-//Operation Prom National Network - ECPv6.15.20//NONSGML v1.0//EN
CALSCALE:GREGORIAN
METHOD:PUBLISH
X-WR-CALNAME:Operation Prom National Network
X-ORIGINAL-URL:https://promnationalnetwork.org
X-WR-CALDESC:Events for Operation Prom National Network
REFRESH-INTERVAL;VALUE=DURATION:PT1H
X-Robots-Tag:noindex
X-PUBLISHED-TTL:PT1H
BEGIN:VTIMEZONE
TZID:UTC
BEGIN:STANDARD
TZOFFSETFROM:+0000
TZOFFSETTO:+0000
TZNAME:UTC
DTSTART:20250101T000000
END:STANDARD
END:VTIMEZONE
BEGIN:VEVENT
DTSTART;TZID=UTC:20260329T100000
DTEND;TZID=UTC:20260329T140000
DTSTAMP:20260425T115346
CREATED:20260311T211401Z
LAST-MODIFIED:20260311T211401Z
UID:2209-1774778400-1774792800@promnationalnetwork.org
SUMMARY:2026 Hartford's Prom Dress Giveaway (Connecticut)
DESCRIPTION:
URL:https://promnationalnetwork.org/event/2026-hartfords-prom-dress-giveaway-connecticut/
LOCATION:Hartford City Hall\, 550 Main Street\, Hartford\, CT\, United States
END:VEVENT
END:VCALENDAR