BEGIN:VCALENDAR
VERSION:2.0
PRODID:-//Operation Prom National Network - ECPv6.15.20//NONSGML v1.0//EN
CALSCALE:GREGORIAN
METHOD:PUBLISH
X-ORIGINAL-URL:https://promnationalnetwork.org
X-WR-CALDESC:Events for Operation Prom National Network
REFRESH-INTERVAL;VALUE=DURATION:PT1H
X-Robots-Tag:noindex
X-PUBLISHED-TTL:PT1H
BEGIN:VTIMEZONE
TZID:UTC
BEGIN:STANDARD
TZOFFSETFROM:+0000
TZOFFSETTO:+0000
TZNAME:UTC
DTSTART:20250101T000000
END:STANDARD
END:VTIMEZONE
BEGIN:VEVENT
DTSTART;TZID=UTC:20260418T110000
DTEND;TZID=UTC:20260418T160000
DTSTAMP:20260425T103719
CREATED:20260314T145707Z
LAST-MODIFIED:20260314T145707Z
UID:2214-1776510000-1776528000@promnationalnetwork.org
SUMMARY:2026 Brooklyn Public Library's Dress & Suit Giveaway (New York)
DESCRIPTION:*Courtesy post for the Brooklyn Public Library. Please contact the Macon Branch for more information.
URL:https://promnationalnetwork.org/event/2026-brooklyn-public-librarys-dress-suit-giveaway-new-york/
LOCATION:Macon Branch Bklyn Public Library\, 361 Lewis Ave\, Brooklyn\, NY\, 11233
END:VEVENT
END:VCALENDAR