BEGIN:VCALENDAR
VERSION:2.0
PRODID:-//Operation Prom National Network - ECPv6.15.20//NONSGML v1.0//EN
CALSCALE:GREGORIAN
METHOD:PUBLISH
X-ORIGINAL-URL:https://promnationalnetwork.org
X-WR-CALDESC:Events for Operation Prom National Network
REFRESH-INTERVAL;VALUE=DURATION:PT1H
X-Robots-Tag:noindex
X-PUBLISHED-TTL:PT1H
BEGIN:VTIMEZONE
TZID:UTC
BEGIN:STANDARD
TZOFFSETFROM:+0000
TZOFFSETTO:+0000
TZNAME:UTC
DTSTART:20240101T000000
END:STANDARD
END:VTIMEZONE
BEGIN:VTIMEZONE
TZID:America/New_York
BEGIN:DAYLIGHT
TZOFFSETFROM:-0500
TZOFFSETTO:-0400
TZNAME:EDT
DTSTART:20240310T070000
END:DAYLIGHT
BEGIN:STANDARD
TZOFFSETFROM:-0400
TZOFFSETTO:-0500
TZNAME:EST
DTSTART:20241103T060000
END:STANDARD
BEGIN:DAYLIGHT
TZOFFSETFROM:-0500
TZOFFSETTO:-0400
TZNAME:EDT
DTSTART:20250309T070000
END:DAYLIGHT
BEGIN:STANDARD
TZOFFSETFROM:-0400
TZOFFSETTO:-0500
TZNAME:EST
DTSTART:20251102T060000
END:STANDARD
BEGIN:DAYLIGHT
TZOFFSETFROM:-0500
TZOFFSETTO:-0400
TZNAME:EDT
DTSTART:20260308T070000
END:DAYLIGHT
BEGIN:STANDARD
TZOFFSETFROM:-0400
TZOFFSETTO:-0500
TZNAME:EST
DTSTART:20261101T060000
END:STANDARD
END:VTIMEZONE
BEGIN:VEVENT
DTSTART;TZID=UTC:20250405T110000
DTEND;TZID=UTC:20250405T150000
DTSTAMP:20260425T194303
CREATED:20250224T185650Z
LAST-MODIFIED:20250224T185650Z
UID:1832-1743850800-1743865200@promnationalnetwork.org
SUMMARY:Shonda's Prom Closet (Queens\, New York)
DESCRIPTION:You must register to attend this event. \nPlease complete the form at: https://docs.google.com/forms/d/e/1FAIpQLSfk7BvfZXymbZk95n4AIRn0_-Gh1SBq2c6JPHYo4Qg4fh6MpQ/viewform \nThis event is open to graduating HS Seniors.
URL:https://promnationalnetwork.org/event/shondas-prom-closet-queens-new-york/
LOCATION:Rochdale Village Inc.\, 169-65 137th Street\, Jamaica\, NY\, 11434\, United States
END:VEVENT
BEGIN:VEVENT
DTSTART;TZID=UTC:20250405T110000
DTEND;TZID=UTC:20250405T160000
DTSTAMP:20260425T194303
CREATED:20250224T190037Z
LAST-MODIFIED:20250224T190037Z
UID:1835-1743850800-1743868800@promnationalnetwork.org
SUMMARY:Prom Louisiana Prom Dress Giveaway (Reserve\, Louisiana)
DESCRIPTION:Join Prom Louisiana on Saturday\, April 5th at 11:00am for their 5th Annual Free Prom Dress Giveaway! \n  \nQuestions? Contact: anekamoll@gmail.com
URL:https://promnationalnetwork.org/event/prom-louisiana-prom-dress-giveaway-reserve-louisiana/
LOCATION:The Gathering Place\, 124 West 7th Street\, Reserve\, LA\, United States
END:VEVENT
BEGIN:VEVENT
DTSTART;TZID=UTC:20250405T110000
DTEND;TZID=UTC:20250405T160000
DTSTAMP:20260425T194303
CREATED:20250317T180709Z
LAST-MODIFIED:20250317T180709Z
UID:1908-1743850800-1743868800@promnationalnetwork.org
SUMMARY:Bronx Prom Dress & Tuxedo Giveaway (Bronx\, New York)
DESCRIPTION:The Bronx Prom Dress & Tuxedo Giveaway is in partnership with ASPIRA at the International Community High School. \nHigh School Seniors must bring their HS ID or a current report card to attend. \nPlease contact BronxOpnn@gmail.com with any questions.
URL:https://promnationalnetwork.org/event/bronx-prom-dress-tuxedo-giveaway-bronx-new-york/
LOCATION:International Community High School\, 345 Brook Avenue\, Bronx\, NY\, 10454\, United States
END:VEVENT
BEGIN:VEVENT
DTSTART;TZID=UTC:20250405T113000
DTEND;TZID=UTC:20250405T153000
DTSTAMP:20260425T194303
CREATED:20250224T183508Z
LAST-MODIFIED:20250224T183508Z
UID:1824-1743852600-1743867000@promnationalnetwork.org
SUMMARY:Operation Prom's Scholarship Luncheon (Scarsdale\, New York)
DESCRIPTION:Join us at our luncheon\, which includes games of bingo! \nShop with our vendors who will be donating a portion of sales. More details to follow soon! Please note the location is at the Junior League of Central Westchester. You may park on the side of the cottage\, or down the hill in the municipal lot. \nPlease visit this link for tickets and sponsorship opportunities: https://givebutter.com/scholarshiplunch
URL:https://promnationalnetwork.org/event/operation-proms-scholarship-luncheon-scarsdale-new-york/
LOCATION:Junior League of Central Westchester\, 1039 Post Road\, Scarsdale\, 10583\, United States
END:VEVENT
BEGIN:VEVENT
DTSTART;TZID=UTC:20250413T100000
DTEND;TZID=UTC:20250413T150000
DTSTAMP:20260425T194303
CREATED:20250224T190618Z
LAST-MODIFIED:20250224T190618Z
UID:1842-1744538400-1744556400@promnationalnetwork.org
SUMMARY:Dominican Sunday's Prom Clothing Giveaway (Manhattan\, New York)
DESCRIPTION:
URL:https://promnationalnetwork.org/event/dominican-sundays-prom-clothing-giveaway-manhattan-new-york-2/
LOCATION:Alianza Dominican Cultural Center\, 145 West 108th Street\, New York\, NY\, 10025\, United States
END:VEVENT
BEGIN:VEVENT
DTSTART;TZID=America/New_York:20250426T100000
DTEND;TZID=America/New_York:20250426T120000
DTSTAMP:20260425T194303
CREATED:20250314T182051Z
LAST-MODIFIED:20250317T180102Z
UID:1877-1745661600-1745668800@promnationalnetwork.org
SUMMARY:Banking on Your Future - College & Career Workshop (White Plains\, NY)
DESCRIPTION:Free workshop for high school juniors and seniors! \nEvery student who attends will be entered to win a free prom ticket! \nPlease register at: https://docs.google.com/forms/d/e/1FAIpQLSclrK57hxuRBONTBT-x6fnt-64OpD53h1wK9OmxxjBpYJxRRA/viewform?usp=header \nSaturday\, April 26th 10:00am-12:00pm at the College of Westchester \nWorkshops hosted by Key Bank and the College of Westchester \nRefreshments provided. \n \n  \n  \n 
URL:https://promnationalnetwork.org/event/banking-on-your-future-college-career-workshop-white-plains-ny/
LOCATION:The College of Westchester\, 325 Central Avenue\, White Plains\, 10606\, United States
END:VEVENT
BEGIN:VEVENT
DTSTART;TZID=UTC:20250426T110000
DTEND;TZID=UTC:20250427T170000
DTSTAMP:20260425T194303
CREATED:20250406T150515Z
LAST-MODIFIED:20250406T150804Z
UID:1927-1745665200-1745773200@promnationalnetwork.org
SUMMARY:Community Center of Northern Westchester (Bedford Hills\, NY)
DESCRIPTION:Our Prom Pop-Up will be open Saturday\, April 26th from 11am to 5pm\, Sunday\, April 27th from 11am to 5pm\, and Monday\, April 28th from 2pm to 6pm. Students are invited to come in and shop for their Senior Prom outfits – all free of charge! Students can choose from a huge assortment of new and gently used formalwear in excellent condition\, including long dresses\, tuxedos\, shoes\, ties\, bags\, and jewelry! No appointment is needed\, but students will need to bring their High School ID cards. \nThe Prom Pop-Up will be located at 669 Bedford Road\, Bedford Hills\, NY 10507 \nCCNW Prom Pop-Up_2025
URL:https://promnationalnetwork.org/event/community-center-of-northern-westchester-bedford-hills-ny/
LOCATION:Community Center of Northern Westchester\, 669 Bedford Road\, Bedford Hills\, NY\, 10507\, United States
END:VEVENT
END:VCALENDAR